Workbook

Sheet Sheet1
A1: 安徽信息工程学院2025-2026学年“三好学生”、“三好学生标兵”推荐表
A2: 学院（盖章）：电气与电子工程学院
A3: 序号 | B3: 姓 名 | C3: 学号 | D3: 班级 | E3: 职 务 | F3: 政治面貌 | G3: 有无违纪 通报批评 | H3: 有无不及格补考 | I3: 综合测评 | K3: 学业成绩 | M3: 是否兼报“三好学生标兵” | N3: 若申请“三好学生标兵”，需填写突出表现（不超过50个字）
I4: 成绩 | J4: 名次/班级人数 | K4: 学业成绩 | L4: 名次/班级人数
A5: 1 | B5: 汪明霞 | C5: 3243032134 | D5: 电信2401班 | E5: 纪律委员 | F5: 共青团员 | G5: 无 | H5: 无 | I5: 89.47 | J5: 3/47 | K5: 82.45 | L5: 12/47
A6: 2 | B6: 张成坤 | C6: 3243032116 | D6: 电信2401班 | E6: 无 | F6: 群众 | G6: 无 | H6: 无 | I6: 78.07 | J6: 6/47 | K6: 82.55 | L6: 11/47
A7: 3 | B7: 蔡文莉 | C7: 3243032102 | D7: 电信2401班 | E7: 无 | F7: 群众 | G7: 无 | H7: 无 | I7: 78 | J7: 7/47 | K7: 86.13 | L7: 6/47
A8: 4 | B8: 周素莹 | C8: 3243032101 | D8: 电信2401班 | E8: 无 | F8: 预备党员 | G8: 无 | H8: 无 | I8: 76.17 | J8: 8/47 | K8: 91.07 | L8: 1/47
A9: 5 | B9: 彭焰 | C9: 3243032125 | D9: 电信2401班 | E9: 无 | F9: 群众 | G9: 无 | H9: 无 | I9: 76.11 | J9: 9/47 | K9: 81.48 | L9: 14/47
A10: 6 | B10: 张茹 | C10: 3243032239 | D10: 电信2402班 | E10: 无 | F10: 群众 | G10: 无 | H10: 无 | I10: 85.19 | J10: 2/45 | K10: 80.98 | L10: 10/45
A11: 7 | B11: 陈皓楠 | C11: 3243032232 | D11: 电信2402班 | E11: 无 | F11: 共青团员 | G11: 无 | H11: 无 | I11: 84.59 | J11: 3/45 | K11: 86.31 | L11: 2/45
A12: 8 | B12: 李俊毅 | C12: 3243032227 | D12: 电信2402班 | E12: 无 | F12: 共青团员 | G12: 无 | H12: 无 | I12: 82.37 | J12: 5/45 | K12: 81.28 | L12: 9/45
A13: 9 | B13: 毕伟娟 | C13: 3243032242 | D13: 电信2402班 | E13: 无 | F13: 群众 | G13: 无 | H13: 无 | I13: 77.27 | J13: 7/45 | K13: 82.78 | L13: 5/45
A14: 10 | B14: 李鲜 | C14: 3243032209 | D14: 电信2402班 | E14: 宣传委员 | F14: =_xlfn.XLOOKUP(B:B,[1]入党申请人!$C$1:$C$65536,[1]入党申请人!$B$1:$B$65536) -> 共青团员 | G14: 无 | H14: 无 | I14: 76.89 | J14: 8/45 | K14: 80.48 | L14: 13/45
A15: 11 | B15: 闫瑞娜 | C15: 3243032316 | D15: 电信2403班 | E15: 无 | F15: 共青团员 | G15: 无 | H15: 无 | I15: 92.33 | J15: 1/48 | K15: 87.53 | L15: 3/48
A16: 12 | B16: 顾博文 | C16: 3243032344 | D16: 电信2403班 | E16: 无 | F16: =_xlfn.XLOOKUP(B:B,[1]入党申请人!$C$1:$C$65536,[1]入党申请人!$B$1:$B$65536) -> 共青团员 | G16: 无 | H16: 无 | I16: 88.91 | J16: 3/48 | K16: 91.26 | L16: 1/48
A17: 13 | B17: 丁晶玲 | C17: 3243032343 | D17: 电信2403班 | E17: 学习委员 | F17: 群众 | G17: 无 | H17: 无 | I17: 86.2 | J17: 4/48 | K17: 84.43 | L17: 9/48
A18: 14 | B18: 刘思怡 | C18: 3243032348 | D18: 电信2403班 | E18: 无 | F18: 群众 | G18: 无 | H18: 无 | I18: 85.82 | J18: 5/48 | K18: 87.87 | L18: 2/48
A19: 15 | B19: 曹双 | C19: 3243032309 | D19: 电信2403班 | E19: 无 | F19: 群众 | G19: 无 | H19: 无 | I19: 78.83 | J19: 7/48 | K19: 87.44 | L19: 4/48
A20: 16 | B20: 惠银杏 | C20: 3243032417 | D20: 电信2404班 | E20: 无 | F20: =_xlfn.XLOOKUP(B:B,[1]入党申请人!$C$1:$C$65536,[1]入党申请人!$B$1:$B$65536) -> 共青团员 | G20: 无 | H20: 无 | I20: 91.02 | J20: 2/49 | K20: 88.85 | L20: 3/49
A21: 17 | B21: 蔡宏伟 | C21: 3243032435 | D21: 电信2404班 | E21: 学习委员 | F21: =_xlfn.XLOOKUP(B:B,[1]入党申请人!$C$1:$C$65536,[1]入党申请人!$B$1:$B$65536) -> 共青团员 | G21: 无 | H21: 无 | I21: 89.48 | J21: 4/49 | K21: 82.47 | L21: 10/49
A22: 18 | B22: 伍新 | C22: 3243032402 | D22: 电信2404班 | E22: 无 | F22: =_xlfn.XLOOKUP(B:B,[1]入党申请人!$C$1:$C$65536,[1]入党申请人!$B$1:$B$65536) -> 共青团员 | G22: 无 | H22: 无 | I22: 84.16 | J22: 8/49 | K22: 84.46 | L22: 5/49
A23: 19 | B23: 周欣宇 | C23: 3243032440 | D23: 电信2404班 | E23: 无 | F23: 群众 | G23: 无 | H23: 无 | I23: 80.98 | J23: 10/49 | K23: 91.85 | L23: 1/49
A24: 20 | B24: 张静雯 | C24: 3243032328 | D24: 电气2401班 | E24: 无 | F24: 预备党员 | G24: 无 | H24: 无 | I24: 94.78 | J24: 1/49 | K24: 91.97 | L24: 2/49 | M24: 是 | N24: 综测94.78居班级第一，智育居班级第二，学习能力突出，思想上积极向党组织靠拢，严格遵守校纪校规
A25: 21 | B25: 毛民涛 | C25: 3243031142 | D25: 电气2401班 | E25: 无 | F25: 共青团员 | G25: 无 | H25: 无 | I25: 88.31 | J25: 4/49 | K25: 92.18 | L25: 1/49
A26: 22 | B26: 张悦悦 | C26: 3243031123 | D26: 电气2401班 | E26: 无 | F26: 共青团员 | G26: 无 | H26: 无 | I26: 87.38 | J26: 5/49 | K26: 80.63 | L26: 14/49
A27: 23 | B27: 俞旺财 | C27: 3243031108 | D27: 电气2401班 | E27: 无 | F27: 共青团员 | G27: 无 | H27: 无 | I27: 85.74 | J27: 6/49 | K27: 83.06 | L27: 8/49
A28: 24 | B28: 韩幸涛 | C28: 3243031141 | D28: 电气2401班 | E28: 无 | F28: 群众 | G28: 无 | H28: 无 | I28: 84.35 | J28: 7/49 | K28: 81.91 | L28: 11/49
A29: 25 | B29: 虞雨林 | C29: 3243031247 | D29: 电气2402班 | E29: 无 | F29: 共青团员 | G29: 无 | H29: 无 | I29: 84.51 | J29: 2/48 | K29: 87.94 | L29: 2/48
A30: 26 | B30: 戴纪贤 | C30: 3243031228 | D30: 电气2402班 | E30: 无 | F30: 共青团员 | G30: 无 | H30: 无 | I30: 80.26 | J30: 4/48 | K30: 80.43 | L30: 9/48
A31: 27 | B31: 韩少强 | C31: 3243051114 | D31: 电气2402班 | E31: 无 | F31: 群众 | G31: 无 | H31: 无 | I31: 79.33 | J31: 5/48 | K31: 85.12 | L31: 4/48
A32: 28 | B32: 田创 | C32: 3243031211 | D32: 电气2402班 | E32: 无 | F32: 共青团员 | G32: 无 | H32: 无 | I32: 71.29 | J32: 9/48 | K32: 83.86 | L32: 5/48
A33: 29 | B33: 石金山 | C33: 3243031235 | D33: 电气2402班 | E33: 无 | F33: 群众 | G33: 无 | H33: 无 | I33: 70.87 | J33: 10/48 | K33: 85.98 | L33: 3/48
A34: 30 | B34: 廖玉珍 | C34: 3243031345 | D34: 电气2403班 | E34: 无 | F34: 预备党员 | G34: 无 | H34: 无 | I34: 92.65 | J34: 1/50 | K34: 87.75 | L34: 1/50
A35: 31 | B35: 邢耀华 | C35: 3243031314 | D35: 电气2403班 | E35: 无 | F35: 共青团员 | G35: 无 | H35: 无 | I35: 91.68 | J35: 2/50 | K35: 86.13 | L35: 2/50
A36: 32 | B36: 胡雅婷 | C36: 3243031333 | D36: 电气2403班 | E36: 纪律委员 | F36: 共青团员 | G36: 无 | H36: 无 | I36: 90.89 | J36: 3/50 | K36: 84.82 | L36: 3/50
... A39: 35 | B39: 方丽琳 | C39: 3243031425 | D39: 电气2404班 | E39: 无 | F39: 共青团员 | G39: 无 | H39: 无 | I39: 87.45 | J39: 1/49 | K39: 88.67 | L39: 1/49
A40: 36 | B40: 杜浩哲 | C40: 3243031409 | D40: 电气2404班 | E40: 无 | F40: 群众 | G40: 无 | H40: 无 | I40: 76.21 | J40: 8/49 | K40: 83.19 | L40: 5/49
A41: 37 | B41: 孙婉婷 | C41: 3243031411 | D41: 电气2404班 | E41: 无 | F41: 共青团员 | G41: 无 | H41: 无 | I41: 81.83 | J41: 4/49 | K41: 85.62 | L41: 4/49
A42: 38 | B42: 程慧 | C42: 3243031420 | D42: 电气2404班 | E42: 无 | F42: 共青团员 | G42: 无 | H42: 无 | I42: 80.14 | J42: 6/49 | K42: 88.26 | L42: 2/49
...
