Workbook

Sheet Sheet1
A1: 安徽信息工程学院2025-2026学年“三好学生”、“三好学生标兵”推荐表
A2: 学院（盖章）：电气与电子工程学院
A3: 序号 | B3: 姓 名 | C3: 学号 | D3: 班级 | E3: 职 务 | F3: 政治面貌 | G3: 有无违纪 通报批评 | H3: 有无不及格补考 | I3: 综合测评 | K3: 学业成绩 | M3: 是否兼报“三好学生标兵” | N3: 若申请“三好学生标兵”，需填写突出表现（不超过50个字）
I4: 成绩 | J4: 名次/班级人数 | K4: 学业成绩 | L4: 名次/班级人数
A5: 1 | B5: 汪明霞 | C5: 3243032134 | D5: 电信2401班 | E5: 纪律委员 | F5: 共青团员 | G5: 无 | H5: 无 | I5: 89.47 | J5: 3/47 | K5: 82.45 | L5: 12/47
A6: 2 | B6: 张成坤 | C6: 3243032116 | D6: 电信2401班 | E6: 无 | F6: 群众 | G6: 无 | H6: 无 | I6: 78.07 | J6: 6/47 | K6: 82.55 | L6: 11/47
A7: 3 | B7: 蔡文莉 | C7: 3243032102 | D7: 电信2401班 | E7: 无 | F7: 群众 | G7: 无 | H7: 无 | I7: 78 | J7: 7/47 | K7: 86.13 | L7: 6/47
A8: 4 | B8: 周素莹 | C8: 3243032101 | D8: 电信2401班 | E8: 无 | F8: 预备党员 | G8: 无 | H8: 无 | I8: 76.17 | J8: 8/47 | K8: 91.07 | L8: 1/47
A9: 5 | B9: 彭焰 | C9: 3243032125 | D9: 电信2401班 | E9: 无 | F9: 群众 | G9: 无 | H9: 无 | I9: 76.11 | J9: 9/47 | K9: 81.48 | L9: 14/47
A10: 6 | B10: 张茹 | C10: 3243032239 | D10: 电信2402班 | E10: 无 | F10: 群众 | G10: 无 | H10: 无 | I10: 85.19 | J10: 2/45 | K10: 80.98 | L10: 10/45
A11: 7 | B11: 陈皓楠 | C11: 3243032232 | D11: 电信2402班 | E11: 无 | F11: 共青团员 | G11: 无 | H11: 无 | I11: 84.59 | J11: 3/45 | K11: 86.31 | L11: 2/45
A12: 8 | B12: 李俊毅 | C12: 3243032227 | D12: 电信2402班 | E12: 无 | F12: 共青团员 | G12: 无 | H12: 无 | I12: 82.37 | J12: 5/45 | K12: 81.28 | L12: 9/45
A13: 9 | B13: 毕伟娟 | C13: 3243032242 | D13: 电信2402班 | E13: 无 | F13: 群众 | G13: 无 | H13: 无 | I13: 77.27 | J13: 7/45 | K13: 82.78 | L13: 5/45
A14: 10 | B14: 李鲜 | C14: 3243032209 | D14: 电信2402班 | E14: 宣传委员 | F14: =_xlfn.XLOOKUP(B:B,[1]入党申请人!$C$1:$C$65536,[1]入党申请人!$B$1:$B$65536) -> 共青团员 | G14: 无 | H14: 无 | I14: 76.89 | J14: 8/45 | K14: 80.48 | L14: 13/45
A15: 11 | B15: 闫瑞娜 | C15: 3243032316 | D15: 电信2403班 | E15: 无 | F15: 共青团员 | G15: 无 | H15: 无 | I15: 92.33 | J15: 1/48 | K15: 87.53 | L15: 3/48
A16: 12 | B16: 顾博文 | C16: 3243032344 | D16: 电信2403班 | E16: 无 | F16: =_xlfn.XLOOKUP(B:B,[1]入党申请人!$C$1:$C$65536,[1]入党申请人!$B$1:$B$65536) -> 共青团员 | G16: 无 | H16: 无 | I16: 88.91 | J16: 3/48 | K16: 91.26 | L16: 1/48
A17: 13 | B17: 丁晶玲 | C17: 3243032343 | D17: 电信2403班 | E17: 学习委员 | F17: 群众 | G17: 无 | H17: 无 | I17: 86.2 | J17: 4/48 | K17: 84.43 | L17: 9/48
A18: 14 | B18: 刘思怡 | C18: 3243032348 | D18: 电信2403班 | E18: 无 | F18: 群众 | G18: 无 | H18: 无 | I18: 85.82 | J18: 5/48 | K18: 87.87 | L18: 2/48
A19: 15 | B19: 曹双 | C19: 3243032309 | D19: 电信2403班 | E19: 无 | F19: 群众 | G19: 无 | H19: 无 | I19: 78.83 | J19: 7/48 | K19: 87.44 | L19: 4/48
A20: 16 | B20: 惠银杏 | C20: 3243032417 | D20: 电信2404班 | E20: 无 | F20: =_xlfn.XLOOKUP(B:B,[1]入党申请人!$C$1:$C$65536,[1]入党申请人!$B$1:$B$65536) -> 共青团员 | G20: 无 | H20: 无 | I20: 91.02 | J20: 2/49 | K20: 88.85 | L20: 3/49
A21: 17 | B21: 蔡宏伟 | C21: 3243032435 | D21: 电信2404班 | E21: 学习委员 | F21: =_xlfn.XLOOKUP(B:B,[1]入党申请人!$C$1:$C$65536,[1]入党申请人!$B$1:$B$65536) -> 共青团员 | G21: 无 | H21: 无 | I21: 89.48 | J21: 4/49 | K21: 82.47 | L21: 10/49
A22: 18 | B22: 伍新 | C22: 3243032402 | D22: 电信2404班 | E22: 无 | F22: =_xlfn.XLOOKUP(B:B,[1]入党申请人!$C$1:$C$65536,[1]入党申请人!$B$1:$B$65536) -> 共青团员 | G22: 无 | H22: 无 | I22: 84.16 | J22: 8/49 | K22: 84.46 | L22: 5/49
A23: 19 | B23: 周欣宇 | C23: 3243032440 | D23: 电信2404班 | E23: 无 | F23: 群众 | G23: 无 | H23: 无 | I23: 80.98 | J23: 10/49 | K23: 91.85 | L23: 1/49
A24: 20 | B24: 张静雯 | C24: 3243032328 | D24: 电气2401班 | E24: 无 | F24: 预备党员 | G24: 无 | H24: 无 | I24: 94.78 | J24: 1/49 | K24: 91.97 | L24: 2/49 | M24: 是 | N24: 综测94.78居班级第一，智育居班级第二，学习能力突出，思想上积极向党组织靠拢，严格遵守校纪校规
A25: 21 | B25: 毛民涛 | C25: 3243031142 | D25: 电气2401班 | E25: 无 | F25: 共青团员 | G25: 无 | H25: 无 | I25: 88.31 | J25: 4/49 | K25: 92.18 | L25: 1/49
A26: 22 | B26: 张悦悦 | C26: 3243031123 | D26: 电气2401班 | E26: 无 | F26: 共青团员 | G26: 无 | H26: 无 | I26: 87.38 | J26: 5/49 | K26: 80.63 | L26: 14/49
A27: 23 | B27: 俞旺财 | C27: 3243031108 | D27: 电气2401班 | E27: 无 | F27: 共青团员 | G27: 无 | H27: 无 | I27: 85.74 | J27: 6/49 | K27: 83.06 | L27: 8/49
A28: 24 | B28: 韩幸涛 | C28: 3243031141 | D28: 电气2401班 | E28: 无 | F28: 群众 | G28: 无 | H28: 无 | I28: 84.35 | J28: 7/49 | K28: 81.91 | L28: 11/49
A29: 25 | B29: 虞雨林 | C29: 3243031247 | D29: 电气2402班 | E29: 无 | F29: 共青团员 | G29: 无 | H29: 无 | I29: 84.51 | J29: 2/48 | K29: 87.94 | L29: 2/48
A30: 26 | B30: 戴纪贤 | C30: 3243031228 | D30: 电气2402班 | E30: 无 | F30: 共青团员 | G30: 无 | H30: 无 | I30: 80.26 | J30: 4/48 | K30: 80.43 | L30: 9/48
A31: 27 | B31: 韩少强 | C31: 3243051114 | D31: 电气2402班 | E31: 无 | F31: 群众 | G31: 无 | H31: 无 | I31: 79.33 | J31: 5/48 | K31: 85.12 | L31: 4/48
A32: 28 | B32: 田创 | C32: 3243031211 | D32: 电气2402班 | E32: 无 | F32: 共青团员 | G32: 无 | H32: 无 | I32: 71.29 | J32: 9/48 | K32: 83.86 | L32: 5/48
A33: 29 | B33: 石金山 | C33: 3243031235 | D33: 电气2402班 | E33: 无 | F33: 群众 | G33: 无 | H33: 无 | I33: 70.87 | J33: 10/48 | K33: 85.98 | L33: 3/48
A34: 30 | B34: 廖玉珍 | C34: 3243031345 | D34: 电气2403班 | E34: 无 | F34: 预备党员 | G34: 无 | H34: 无 | I34: 92.65 | J34: 1/50 | K34: 87.75 | L34: 1/50
A35: 31 | B35: 邢耀华 | C35: 3243031314 | D35: 电气2403班 | E35: 无 | F35: 共青团员 | G35: 无 | H35: 无 | I35: 91.68 | J35: 2/50 | K35: 86.13 | L35: 2/50
A36: 32 | B36: 胡雅婷 | C36: 3243031333 | D36: 电气2403班 | E36: 纪律委员 | F36: 共青团员 | G36: 无 | H36: 无 | I36: 90.89 | J36: 3/50 | K36: 84.82 | L36: 3/50
... A39: 35 | B39: 方丽琳 | C39: 3243031425 | D39: 电气2404班 | E39: 无 | F39: 共青团员 | G39: 无 | H39: 无 | I39: 87.45 | J39: 1/49 | K39: 88.67 | L39: 1/49
A40: 36 | B40: 杜浩哲 | C40: 3243031409 | D40: 电气2404班 | E40: 无 | F40: 群众 | G40: 无 | H40: 无 | I40: 76.21 | J40: 8/49 | K40: 83.19 | L40: 5/49
A41: 37 | B41: 孙婉婷 | C41: 3243031411 | D41: 电气2404班 | E41: 无 | F41: 共青团员 | G41: 无 | H41: 无 | I41: 81.83 | J41: 4/49 | K41: 85.62 | L41: 4/49
A42: 38 | B42: 程慧 | C42: 3243031420 | D42: 电气2404班 | E42: 无 | F42: 共青团员 | G42: 无 | H42: 无 | I42: 80.14 | J42: 6/49 | K42: 88.26 | L42: 2/49
A43: 39 | B43: 段鹏 | C43: 3243031433 | D43: 电气2404班 | E43: 无 | F43: 群众 | G43: 无 | H43: 无 | I43: 68.18 | J43: 10/49 | K43: 80.23 | L43: 6/49
A44: 40 | B44: 晏云洁 | C44: 3243035126 | D44: 机器人2401班 | E44: 无 | F44: 共青团员 | G44: 无 | H44: 无 | I44: 94.07 | J44: 1/43 | K44: 90.11 | L44: 1/43 | M44: 是 | N44: 学习勤奋刻苦，取得班级学业与综测双第一。积极参与学科竞赛且获得多项成果，还撰写专利和考取技能证书。
A45: 41 | B45: 孙悦桐 | C45: 3243035117 | D45: 机器人2401班 | E45: 无 | F45: 群众 | G45: 无 | H45: 无 | I45: 91.24 | J45: 2/43 | K45: 85.40 | L45: 6/43
A46: 42 | B46: 周小龙 | C46: 3243035134 | D46: 机器人2401班 | E46: 无 | F46: 共青团员 | G46: 无 | H46: 无 | I46: 81.31 | J46: 6/43 | K46: 89.52 | L46: 2/43
A47: 43 | B47: 吴雪华 | C47: 3243035121 | D47: 机器人2401班 | E47: 无 | F47: 共青团员 | G47: 无 | H47: 无 | I47: 81.09 | J47: 7/43 | K47: 86.82 | L47: 5/43
A48: 44 | B48: 代慧欣 | C48: 3243035221 | D48: 机器人2402班 | E48: 宣传委员 | F48: 共青团员 | G48: 无 | H48: 无 | I48: 93.52 | J48: 1/42 | K48: 89.2 | L48: 1/42
A49: 45 | B49: 徐飞 | C49: 3243035222 | D49: 机器人2402班 | E49: 无 | F49: 群众 | G49: 无 | H49: 无 | I49: 90.01 | J49: 2/42 | K49: 83.71 | L49: 6/42
A50: 46 | B50: 侯颖 | C50: 3243035225 | D50: 机器人2402班 | E50: 无 | F50: 共青团员 | G50: 无 | H50: 无 | I50: 88.71 | J50: 4/42 | K50: 83.51 | L50: 7/42
A51: 47 | B51: 董艺硕 | C51: 3243035216 | D51: 机器人2402班 | E51: 文体委员 | F51: 共青团员 | G51: 无 | H51: 无 | I51: 85.79 | J51: 5/42 | K51: 82.32 | L51: 8/42
A52: 48 | B52: 高雨婷 | C52: 3243035315 | D52: 机器人2403班 | E52: 无 | F52: 共青团员 | G52: 无 | H52: 无 | I52: 87.01 | J52: 2/40 | K52: 87.46 | L52: 2/40
A53: 49 | B53: 王新圆 | C53: 3243035308 | D53: 机器人2403班 | E53: 无 | F53: 共青团员 | G53: 无 | H53: 无 | I53: 84.04 | J53: 4/40 | K53: 84.74 | L53: 4/40
A54: 50 | B54: 梅强芝 | C54: 3243035311 | D54: 机器人2403班 | E54: 无 | F54: 群众 | G54: 无 | H54: 无 | I54: 70.04 | J54: 10/40 | K54: 84.51 | L54: 5/40
A55: 51 | B55: 郭雅茹 | C55: 3243035331 | D55: 机器人2403班 | E55: 无 | F55: 群众 | G55: 无 | H55: 无 | I55: 70.42 | J55: 7/40 | K55: 85.46 | L55: 3/40
A56: 52 | B56: 方鑫媛 | C56: 3243033130 | D56: 通信2401班 | E56: 无 | F56: 共青团员 | G56: 无 | H56: 无 | I56: 85.76 | J56: 4/46 | K56: 86.83 | L56: 3/46
A57: 53 | B57: 葛佳 | C57: 3243033129 | D57: 通信2401班 | E57: 无 | F57: 共青团员 | G57: 无 | H57: 无 | I57: 76.17 | J57: 8/46 | K57: 83.35 | L57: 12/46
A58: 54 | B58: 唐欣悦 | C58: 3243033141 | D58: 通信2401班 | E58: 无 | F58: 共青团员 | G58: 无 | H58: 无 | I58: 93.63 | J58: 1/46 | K58: 89.38 | L58: 1/46
A59: 55 | B59: 刘晓雪 | C59: 3243033124 | D59: 通信2401班 | E59: 无 | F59: 共青团员 | G59: 无 | H59: 无 | I59: 74.32 | J59: 12/46 | K59: 83.32 | L59: 13/46
A60: 56 | B60: 杨舒伊 | C60: 3243033108 | D60: 通信2401班 | E60: 无 | F60: 群众 | G60: 无 | H60: 无 | I60: 74.9 | J60: 10/46 | K60: 84.18 | L60: 9/46
A61: 57 | B61: 邢圆圆 | C61: 3243033244 | D61: 通信2402班 | E61: 无 | F61: 共青团员 | G61: 无 | H61: 无 | I61: 93.78 | J61: 2/47 | K61: 89.64 | L61: 2/47
A62: 58 | B62: 吴玘 | C62: 3243033237 | D62: 通信2402班 | E62: 无 | F62: 群众 | G62: 无 | H62: 无 | I62: 92.37 | J62: 4/47 | K62: 87.28 | L62: 7/47
A63: 59 | B63: 郑紫晴 | C63: 3243033207 | D63: 通信2402班 | E63: 心理委员 | F63: 群众 | G63: 无 | H63: 无 | I63: 90.32 | J63: 7/47 | K63: 83.86 | L63: 8/47
A64: 60 | B64: 王慧雯 | C64: 3243033235 | D64: 通信2402班 | E64: 无 | F64: 群众 | G64: 无 | H64: 无 | I64: 90.14 | J64: 8/47 | K64: 83.57 | L64: 9/47
A65: 61 | B65: 彭林熔 | C65: 3243033249 | D65: 通信2402班 | E65: 宣传委员 | F65: 共青团员 | G65: 无 | H65: 无 | I65: 89.83 | J65: 9/47 | K65: 83.38 | L65: 10/47
A66: 62 | B66: 姚佳佳 | C66: 3243034102 | D66: 自动化2401班 | E66: 组织委员 | F66: 共青团员 | G66: 无 | H66: 无 | I66: 82.04 | J66: 2/47 | K66: 87.57 | L66: 4/47
... A139: 135 | B139: 陈书畅 | C139: 3253032624 | D139: 电信2506班 | E139: 无 | F139: 群众 | G139: 无 | H139: 无 | I139: 72.26 | J139: 14/42 | K139: 82.66 | L139: 4/42
A140: 136 | B140: 郭静悦 | C140: 3253033143 | D140: 通信2501班 | E140: 无 | F140: =VLOOKUP(B140,[3]Sheet1!$1:$1048576,2,0) -> 共青团员 | G140: 无 | H140: 无 | I140: 83.84 | J140: 2/40 | K140: 89.40 | L140: 2/40
A141: 137 | B141: 曾祥雯 | C141: 3253033118 | D141: 通信2501班 | E141: 无 | F141: =VLOOKUP(B141,[3]Sheet1!$1:$1048576,2,0) -> 群众 | G141: 无 | H141: 无 | I141: 76.83 | J141: 10/40 | K141: 89.39 | L141: 3/40
A142: 138 | B142: 孙敏宇 | C142: 3253033108 | D142: 通信2501班 | E142: 无 | F142: =VLOOKUP(B142,[3]Sheet1!$1:$1048576,2,0) -> 群众 | G142: 无 | H142: 无 | I142: 80.5 | J142: 6/40 | K142: 89.83 | L142: 1/40
A143: 139 | B143: 白涵 | C143: 3253033101 | D143: 通信2501班 | E143: 无 | F143: =VLOOKUP(B143,[3]Sheet1!$1:$1048576,2,0) -> 群众 | G143: 无 | H143: 无 | I143: 80.19 | J143: 7/40 | K143: 87.31 | L143: 6/40
A144: 140 | B144: 孙先瑶 | C144: 3253033114 | D144: 通信2501班 | E144: =VLOOKUP(B144,[2]Sheet1!$E:$G,3,0) -> 心理委员 | F144: =VLOOKUP(B144,[3]Sheet1!$1:$1048576,2,0) -> 群众 | G144: 无 | H144: 无 | I144: 78.53 | J144: 9/40 | K144: 88.88 | L144: 4/40
A145: 141 | B145: 朱静静 | C145: 3253033227 | D145: 通信2502班 | E145: =VLOOKUP(B145,[2]Sheet1!$E:$G,3,0) -> 宣传委员 | F145: =VLOOKUP(B145,[3]Sheet1!$1:$1048576,2,0) -> 共青团员 | G145: 无 | H145: 无 | I145: 95.49 | J145: 1/42 | K145: 92.48 | L145: 1/42 | M145: 是 | N145: 在校期间重视专业课的学习，学业成绩名列前茅，踊跃参与各级学科竞赛并斩获多项奖项，以身作则。
A146: 142 | B146: 蔡欢欢 | C146: 3253033204 | D146: 通信2502班 | E146: 无 | F146: =VLOOKUP(B146,[3]Sheet1!$1:$1048576,2,0) -> 群众 | G146: 无 | H146: 无 | I146: 83.15 | J146: 4/42 | K146: 91.58 | L146: 2/42
A147: 143 | B147: 刘欣 | C147: 3253033206 | D147: 通信2502班 | E147: 无 | F147: =VLOOKUP(B147,[3]Sheet1!$1:$1048576,2,0) -> 群众 | G147: 无 | H147: 无 | I147: 82.26 | J147: 5/42 | K147: 85.44 | L147: 8/42
A148: 144 | B148: 万浩杨 | C148: 3253033242 | D148: 通信2502班 | E148: 组织委员 | F148: =VLOOKUP(B148,[3]Sheet1!$1:$1048576,2,0) -> 共青团员 | G148: 无 | H148: 无 | I148: 84.97 | J148: 3/42 | K148: 86.28 | L148: 7/42
A149: 145 | B149: 徐金贺 | C149: 3253034132 | D149: 自动化2501班 | E149: 组织委员 | F149: 共青团员 | G149: 无 | H149: 无 | I149: 77.93 | J149: 6/48 | K149: 85.89 | L149: 3/48
A150: 146 | B150: 吕可馨 | C150: 3253034145 | D150: 自动化2501班 | E150: 无 | F150: =VLOOKUP(B150,[3]Sheet1!$1:$1048576,2,0) -> 群众 | G150: 无 | H150: 无 | I150: 79.31 | J150: 3/48 | K150: 89.19 | L150: 1/48
A151: 147 | B151: 盛锦翔 | C151: 3253034150 | D151: 自动化2501班 | E151: 无 | F151: =VLOOKUP(B151,[3]Sheet1!$1:$1048576,2,0) -> 群众 | G151: 无 | H151: 无 | I151: 78.31 | J151: 5/48 | K151: 85.52 | L151: 4/48
A152: 148 | B152: 孙悦悦 | C152: 3253034103 | D152: 自动化2501班 | E152: 无 | F152: =VLOOKUP(B152,[3]Sheet1!$1:$1048576,2,0) -> 共青团员 | G152: 无 | H152: 无 | I152: 75.62 | J152: 8/48 | K152: 88.70 | L152: 2/48
A153: 149 | B153: 罗鑫威 | C153: 3253034101 | D153: 自动化2501班 | E153: 无 | F153: =VLOOKUP(B153,[3]Sheet1!$1:$1048576,2,0) -> 群众 | G153: 无 | H153: 无 | I153: 74.04 | J153: 11/48 | K153: 83.76 | L153: 7/48
A154: 150 | B154: 朱家旺 | C154: 3253034225 | D154: 自动化2502班 | E154: 无 | F154: =VLOOKUP(B154,[3]Sheet1!$1:$1048576,2,0) -> 群众 | G154: 无 | H154: 无 | I154: 90.52 | J154: 2/49 | K154: 87.87 | L154: 4/49
A155: 151 | B155: 刘宁 | C155: 3253034221 | D155: 自动化2502班 | E155: 无 | F155: =VLOOKUP(B155,[3]Sheet1!$1:$1048576,2,0) -> 共青团员 | G155: 无 | H155: 无 | I155: 83.09 | J155: 4/49 | K155: 86.49 | L155: 6/49
A156: 152 | B156: 吕香凝 | C156: 3253034201 | D156: 自动化2502班 | E156: 无 | F156: =VLOOKUP(B156,[3]Sheet1!$1:$1048576,2,0) -> 群众 | G156: 无 | H156: 无 | I156: 77.77 | J156: 8/49 | K156: 86.95 | L156: 5/49
A157: 153 | B157: 王小宇 | C157: 3253034204 | D157: 自动化2502班 | E157: 无 | F157: 群众 | G157: 无 | H157: 无 | I157: 72.76 | J157: 13/49 | K157: 84.1 | L157: 8/49
A158: 154 | B158: 王文豪 | C158: 3253034242 | D158: 自动化2502班 | E158: 无 | F158: =VLOOKUP(B158,[3]Sheet1!$1:$1048576,2,0) -> 共青团员 | G158: 无 | H158: 无 | I158: 72.97 | J158: 12/49 | K158: 88.18 | L158: 3/49
A159: 155 | B159: 叶成城 | C159: 3253034329 | D159: 自动化2503班 | E159: 无 | F159: =VLOOKUP(B159,[3]Sheet1!$1:$1048576,2,0) -> 群众 | G159: 无 | H159: 无 | I159: 74.29 | J159: 10/49 | K159: 85.15 | L159: 6/49
A160: 156 | B160: 李紫慧 | C160: 3253034348 | D160: 自动化2503班 | E160: 无 | F160: =VLOOKUP(B160,[3]Sheet1!$1:$1048576,2,0) -> 群众 | G160: 无 | H160: 无 | I160: 77.9 | J160: 4/49 | K160: 87.16 | L160: 4/49
A161: 157 | B161: 米娇 | C161: 3253034334 | D161: 自动化2503班 | E161: 无 | F161: =VLOOKUP(B161,[3]Sheet1!$1:$1048576,2,0) -> 群众 | G161: 无 | H161: 无 | I161: 75.19 | J161: 8/49 | K161: 87.65 | L161: 3/49
A162: 158 | B162: 沈鹏飞 | C162: 3253034343 | D162: 自动化2503班 | E162: 无 | F162: =VLOOKUP(B162,[3]Sheet1!$1:$1048576,2,0) -> 群众 | G162: 无 | H162: 无 | I162: 74.56 | J162: 9/49 | K162: 85.94 | L162: 5/49
A163: 159 | B163: 周冰雁 | C163: 3253034408 | D163: 自动化2504班 | E163: =VLOOKUP(B163,[2]Sheet1!$E:$G,3,0) -> 纪律委员 | F163: =VLOOKUP(B163,[3]Sheet1!$1:$1048576,2,0) -> 群众 | G163: 无 | H163: 无 | I163: 75.79 | J163: 3/49 | K163: 84.32 | L163: 2/49
A164: 160 | B164: 杨必丽 | C164: 3253034416 | D164: 自动化2504班 | E164: 无 | F164: =VLOOKUP(B164,[3]Sheet1!$1:$1048576,2,0) -> 群众 | G164: 无 | H164: 无 | I164: 74.09 | J164: 6/49 | K164: 84.82 | L164: 1/49
A165: 161 | B165: 陈明洋 | C165: 3253034325 | D165: 自动化2503班 | E165: 无 | F165: 群众 | G165: 无 | H165: 无 | I165: 73.35 | J165: 12/49 | K165: 84.25 | L165: 9/49
A166: 162 | B166: 季娜 | C166: 3253033235 | D166: 通信2502班 | E166: 无 | F166: 群众 | G166: 无 | H166: 无 | I166: 81.07 | J166: 6/42 | K166: 88.12 | L166: 4/42
A167: 163 | B167: 刘旭 | C167: 3233032222 | D167: 电气2505班 | E167: 团支书 | F167: 共青团员 | G167: 无 | H167: 无 | I167: 84.41 | J167: 2/25 | K167: 85.02 | L167: 3/25
A168: 164 | B168: 张文雅 | C168: 3233032111 | D168: 电信2301班 | E168: 宣传委员 | F168: 预备党员 | G168: 无 | H168: 无 | I168: 94.88 | J168: 1/48 | K168: 91.46 | L168: 1/48
A169: 165 | B169: 张婷婷 | C169: 3233052207 | D169: 电信2301班 | E169: 无 | F169: 预备党员 | G169: 无 | H169: 无 | I169: 88.23 | J169: 5/48 | K169: 89.58 | L169: 5/48
A170: 166 | B170: 方晓玲 | C170: 3233032143 | D170: 电信2301班 | E170: 无 | F170: 共青团员 | G170: 无 | H170: 无 | I170: 80.31 | J170: 10/48 | K170: 85.95 | L170: 11/48
A171: 167 | B171: 杜程前 | C171: 3233032127 | D171: 电信2301班 | E171: 无 | F171: 群众 | G171: 无 | H171: 无 | I171: 86.41 | J171: 7/48 | K171: 85.41 | L171: 13/48
A172: 168 | B172: 张朝静 | C172: 3233032119 | D172: 电信2301班 | E172: 无 | F172: 共青团员 | G172: 无 | H172: 无 | I172: 83.86 | J172: 8/48 | K172: 87.76 | L172: 7/48
A173: 169 | B173: 蔡佳利 | C173: 3233053117 | D173: 电信2302班 | E173: 无 | F173: 共青团员 | G173: 无 | H173: 无 | I173: 86.56 | J173: 1/49 | K173: 89.18 | L173: 2/49
A174: 170 | B174: 韩琪 | C174: 3233032229 | D174: 电信2302班 | E174: 无 | F174: 预备党员 | G174: 无 | H174: 无 | I174: 80.47 | J174: 2/49 | K174: 86.19 | L174: 10/49
...
